BEGIN:VCALENDAR
VERSION:2.0
PRODID:-//Appalachian Gun, Pawn, Range, &amp; Training. - ECPv6.15.20//NONSGML v1.0//EN
CALSCALE:GREGORIAN
METHOD:PUBLISH
X-WR-CALNAME:Appalachian Gun, Pawn, Range, &amp; Training.
X-ORIGINAL-URL:https://appalachiangun.com
X-WR-CALDESC:Events for Appalachian Gun, Pawn, Range, &amp; Training.
REFRESH-INTERVAL;VALUE=DURATION:PT1H
X-Robots-Tag:noindex
X-PUBLISHED-TTL:PT1H
BEGIN:VTIMEZONE
TZID:America/New_York
BEGIN:DAYLIGHT
TZOFFSETFROM:-0500
TZOFFSETTO:-0400
TZNAME:EDT
DTSTART:20250309T070000
END:DAYLIGHT
BEGIN:STANDARD
TZOFFSETFROM:-0400
TZOFFSETTO:-0500
TZNAME:EST
DTSTART:20251102T060000
END:STANDARD
BEGIN:DAYLIGHT
TZOFFSETFROM:-0500
TZOFFSETTO:-0400
TZNAME:EDT
DTSTART:20260308T070000
END:DAYLIGHT
BEGIN:STANDARD
TZOFFSETFROM:-0400
TZOFFSETTO:-0500
TZNAME:EST
DTSTART:20261101T060000
END:STANDARD
BEGIN:DAYLIGHT
TZOFFSETFROM:-0500
TZOFFSETTO:-0400
TZNAME:EDT
DTSTART:20270314T070000
END:DAYLIGHT
BEGIN:STANDARD
TZOFFSETFROM:-0400
TZOFFSETTO:-0500
TZNAME:EST
DTSTART:20271107T060000
END:STANDARD
END:VTIMEZONE
BEGIN:VEVENT
DTSTART;TZID=America/New_York:20260421T130000
DTEND;TZID=America/New_York:20260421T143000
DTSTAMP:20260421T021218
CREATED:20260108T201759Z
LAST-MODIFIED:20260108T201759Z
UID:10003476-1776776400-1776781800@appalachiangun.com
SUMMARY:Armed Women of America
DESCRIPTION:AWA exists to enable women to be their own self-protectors\, creating freedom\, peace of mind\, and confidence in themselves. Our vision is that women have the skills\, mindset\, and training to defend themselves and those in their care. \nChapters across the country offer a welcoming\, non-intimidating place for women to learn more about the safe and responsible use of firearms\, including firearms safety\, personal protection\, concealed carry\, mindset and so much more. \nThe meetings offer classroom and range time\, all under the guidance of certified women instructors who volunteer their time. \nArmed Women of America provides a safe and comfortable environment for women to gather\, learn\, train\, and discuss issues important to women gun owners.
URL:https://appalachiangun.com/event/armed-women-of-america/2026-04-21/
LOCATION:Appalacian Gun\, Pawn & Range\, 140 Shelby Ln.\, Jasper\, GA\, 30143\, United States
ORGANIZER;CN="Appalachian Gun":MAILTO:Appalachiangun@gmail.com
END:VEVENT
BEGIN:VEVENT
DTSTART;TZID=America/New_York:20260421T173000
DTEND;TZID=America/New_York:20260421T190000
DTSTAMP:20260421T021218
CREATED:20260108T201902Z
LAST-MODIFIED:20260108T201902Z
UID:10003594-1776792600-1776798000@appalachiangun.com
SUMMARY:Armed Women of America
DESCRIPTION:AWA exists to enable women to be their own self-protectors\, creating freedom\, peace of mind\, and confidence in themselves. Our vision is that women have the skills\, mindset\, and training to defend themselves and those in their care. \nChapters across the country offer a welcoming\, non-intimidating place for women to learn more about the safe and responsible use of firearms\, including firearms safety\, personal protection\, concealed carry\, mindset and so much more. \nThe meetings offer classroom and range time\, all under the guidance of certified women instructors who volunteer their time. \nArmed Women of America provides a safe and comfortable environment for women to gather\, learn\, train\, and discuss issues important to women gun owners.
URL:https://appalachiangun.com/event/armed-women-of-america-2/2026-04-21/
LOCATION:Appalacian Gun\, Pawn & Range\, 140 Shelby Ln.\, Jasper\, GA\, 30143\, United States
ORGANIZER;CN="Appalachian Gun":MAILTO:Appalachiangun@gmail.com
END:VEVENT
END:VCALENDAR